BEGIN:VCALENDAR
VERSION:2.0
PRODID:-//Sophicity/Tribune/Cochran, GA
BEGIN:VEVENT
DTSTAMP:20260419T100414Z
UID:657271c3-22ed-4e09-a531-6ef8927201a7-4722
DTSTART:20170214T131800Z
DTEND:20170215T040000Z
CLASS:PUBLIC
SUMMARY:Happy Valentine's Day
END:VEVENT
END:VCALENDAR
